BEGIN:VCALENDAR
VERSION:2.0
PRODID:icalendar-ruby
CALSCALE:GREGORIAN
METHOD:PUBLISH
BEGIN:VEVENT
DTSTAMP:20260423T085940Z
UID:418-3120086@cpclife.com
DTSTART:20260924T223000Z
DTEND:20260925T000000Z
CLASS:PUBLIC
CREATED:20260422T174522
DESCRIPTION:Afterschool Club offers a fun and engaging environment for chil
 dren ages 5-10 years every Thursday during the school year from 3:30-5:00 
 pm. Kids will enjoy fun activities\, tasty snacks\, and learn about Jesus\
 , making it a great opportunity for both fun and spiritual growth.
LAST-MODIFIED:20260422T174522
LOCATION:CPC Fellowship Hall
SUMMARY:Afterschool Club
URL;VALUE=URI:https://www.cpclife.com/events/afterschool-club/2026-09-24
ATTACH;FILENAME=After school club-website (1500x784) (1).png;FMTTYPE=image/
 png:https://dq5pwpg1q8ru0.cloudfront.net/2025/09/18/20/59/31/1faa9fb0-5b0d
 -424a-b0fa-8aaa4bd018da/After%20school%20club-website%20(1500x784)%20(1).p
 ng
END:VEVENT
END:VCALENDAR
