BEGIN:VCALENDAR
VERSION:2.0
PRODID:icalendar-ruby
CALSCALE:GREGORIAN
METHOD:PUBLISH
BEGIN:VEVENT
DTSTAMP:20260423T133908Z
UID:456-3116982@cpclife.com
DTSTART:20260504T013000Z
DTEND:20260504T030000Z
CLASS:PUBLIC
CREATED:20260422T142417
DESCRIPTION:Discover Serve Teams Sunday Sundae – May 3rd\nWhy Serve? Beca
 use serving isn’t just impactful—it’s joyful as well! Jesus came to 
 serve\, and He calls us to do the same. At CPC\, exciting things are happe
 ning\, and we want YOU to be part of the action. When we serve together\, 
 we experience joy\, connection\, and growth—all while making a real diff
 erence.\nJoin us on May 3rd for Discover Serve Teams Sunday Sundae at 6:30
  pm in the Fellowship Hall. Learn about the many ways you can get involved
 \, have a great time\, and enjoy some delicious ice cream afterward! Wheth
 er you're new to serving or looking to deepen your involvement\, this is y
 our chance to see how serving can be fun\, fulfilling\, and life-changing.
  We can't wait to see you there!\nDid we mention there'll be sundaes? 
LAST-MODIFIED:20260422T142417
LOCATION:Fellowship Hall
SUMMARY:Discover Serve Teams Sunday Sundae
URL;VALUE=URI:https://www.cpclife.com/events/discover-serve-teams-sunday-su
 ndae/2026-05-03
ATTACH;FILENAME=Discover Serve Team SundaySundae.jpg;FMTTYPE=image/jpeg:htt
 ps://dq5pwpg1q8ru0.cloudfront.net/2026/04/22/21/24/17/fbec67cd-559c-4fb0-8
 c44-02807fd8f6a0/Discover%20Serve%20Team%20SundaySundae.jpg
END:VEVENT
END:VCALENDAR
