BEGIN:VCALENDAR
VERSION:2.0
PRODID:icalendar-ruby
CALSCALE:GREGORIAN
METHOD:PUBLISH
BEGIN:VEVENT
DTSTAMP:20260423T071817Z
UID:380-3119937@cpclife.com
DTSTART:20261008T013000Z
DTEND:20261008T033000Z
CLASS:PUBLIC
CREATED:20260422T174521
DESCRIPTION:CPC Youth is for teens in grades 8-12. It happens every Wednesd
 ay from 6:30-8:30 pm in the Fellowship Hall at the church.
LAST-MODIFIED:20260422T174521
LOCATION:
SUMMARY:Sr. Youth
URL;VALUE=URI:https://www.cpclife.com/events/sr-youth/2026-10-07
ATTACH;FILENAME=CPC YOUTH  (1500 × 784 px).png;FMTTYPE=image/png:https://d
 q5pwpg1q8ru0.cloudfront.net/2025/03/13/18/26/27/b553b17a-bb05-467a-b79f-ab
 e532654a66/CPC%20YOUTH%20%20(1500%20%C3%97%20784%20px).png
END:VEVENT
END:VCALENDAR
